BEGIN:VCALENDAR
VERSION:2.0
PRODID:-//Sociemat - ECPv6.15.16//NONSGML v1.0//EN
CALSCALE:GREGORIAN
METHOD:PUBLISH
X-WR-CALNAME:Sociemat
X-ORIGINAL-URL:https://sociemat.es
X-WR-CALDESC:Eventos para Sociemat
REFRESH-INTERVAL;VALUE=DURATION:PT1H
X-Robots-Tag:noindex
X-PUBLISHED-TTL:PT1H
BEGIN:VTIMEZONE
TZID:Europe/Madrid
BEGIN:DAYLIGHT
TZOFFSETFROM:+0100
TZOFFSETTO:+0200
TZNAME:CEST
DTSTART:20160327T010000
END:DAYLIGHT
BEGIN:STANDARD
TZOFFSETFROM:+0200
TZOFFSETTO:+0100
TZNAME:CET
DTSTART:20161030T010000
END:STANDARD
BEGIN:DAYLIGHT
TZOFFSETFROM:+0100
TZOFFSETTO:+0200
TZNAME:CEST
DTSTART:20170326T010000
END:DAYLIGHT
BEGIN:STANDARD
TZOFFSETFROM:+0200
TZOFFSETTO:+0100
TZNAME:CET
DTSTART:20171029T010000
END:STANDARD
BEGIN:DAYLIGHT
TZOFFSETFROM:+0100
TZOFFSETTO:+0200
TZNAME:CEST
DTSTART:20180325T010000
END:DAYLIGHT
BEGIN:STANDARD
TZOFFSETFROM:+0200
TZOFFSETTO:+0100
TZNAME:CET
DTSTART:20181028T010000
END:STANDARD
END:VTIMEZONE
BEGIN:VEVENT
DTSTART;VALUE=DATE:20171108
DTEND;VALUE=DATE:20171109
DTSTAMP:20260423T102329
CREATED:20171031T113339Z
LAST-MODIFIED:20171107T120959Z
UID:989-1510099200-1510185599@sociemat.es
SUMMARY:Jornada Sociemat Día Mundial de los Materiales
DESCRIPTION:
URL:https://sociemat.es/event/jornada-sociemat-dia-mundial-los-materiales/
LOCATION:ICV CSIC\, Kelsen 5\, Campus Cantoblanco\, Madrid\, Madrid
ORGANIZER;CN="Sociemat":MAILTO:info@sociemat.es
END:VEVENT
BEGIN:VEVENT
DTSTART;VALUE=DATE:20171003
DTEND;VALUE=DATE:20171007
DTSTAMP:20260423T102329
CREATED:20170922T142101Z
LAST-MODIFIED:20170922T142101Z
UID:547-1506988800-1507334399@sociemat.es
SUMMARY:TRATERMAT 2017
DESCRIPTION:
URL:https://sociemat.es/event/tratermat-2017/
LOCATION:Linares\, Linares\, Jaén
END:VEVENT
BEGIN:VEVENT
DTSTART;VALUE=DATE:20171002
DTEND;VALUE=DATE:20171007
DTSTAMP:20260423T102329
CREATED:20170922T131430Z
LAST-MODIFIED:20170922T131430Z
UID:539-1506902400-1507334399@sociemat.es
SUMMARY:Curso "Ensayos Mecánicos" CENIM CSIC
DESCRIPTION:
URL:https://sociemat.es/event/curso-ensayos-mecanicos-cenim-csic/
LOCATION:CENIM\, Gregorio del Amo\, 8\, Madrid\, Madrid\, 28040\, España
END:VEVENT
BEGIN:VEVENT
DTSTART;VALUE=DATE:20170925
DTEND;VALUE=DATE:20170928
DTSTAMP:20260423T102329
CREATED:20170922T130851Z
LAST-MODIFIED:20170922T130851Z
UID:536-1506297600-1506556799@sociemat.es
SUMMARY:Materials Science and Nanoscience 2017
DESCRIPTION:
URL:https://sociemat.es/event/materials-science-and-nanoscience-2017/
LOCATION:Valencia\, Valencia\, España
END:VEVENT
BEGIN:VEVENT
DTSTART;VALUE=DATE:20170917
DTEND;VALUE=DATE:20170923
DTSTAMP:20260423T102329
CREATED:20170922T141630Z
LAST-MODIFIED:20170922T141853Z
UID:543-1505606400-1506124799@sociemat.es
SUMMARY:EUROMAT 2017
DESCRIPTION:
URL:https://sociemat.es/event/euromat-2017/
LOCATION:Tesalónica\, Tesalónica\, Grecia
END:VEVENT
BEGIN:VEVENT
DTSTART;VALUE=DATE:20170903
DTEND;VALUE=DATE:20170908
DTSTAMP:20260423T102329
CREATED:20170922T130443Z
LAST-MODIFIED:20170922T130528Z
UID:533-1504396800-1504828799@sociemat.es
SUMMARY:EUROCORR 2017
DESCRIPTION:
URL:https://sociemat.es/event/eurocorr-2017/
LOCATION:Praga\, Praga\, República Checa
END:VEVENT
BEGIN:VEVENT
DTSTART;VALUE=DATE:20170901
DTEND;VALUE=DATE:20170904
DTSTAMP:20260423T102329
CREATED:20170809T112810Z
LAST-MODIFIED:20170922T125912Z
UID:332-1504224000-1504483199@sociemat.es
SUMMARY:EFC Pre Congress Course in Corrossion Science
DESCRIPTION:
URL:https://sociemat.es/event/efc-pre-congress-course-in-corrossion-science/
LOCATION:Praga\, República Checa
END:VEVENT
END:VCALENDAR